BEGIN:VCALENDAR
VERSION:2.0
PRODID:-//Penguin Project - ECPv6.15.17.1//NONSGML v1.0//EN
CALSCALE:GREGORIAN
METHOD:PUBLISH
X-WR-CALNAME:Penguin Project
X-ORIGINAL-URL:https://penguin.csmdemo.com
X-WR-CALDESC:Events for Penguin Project
REFRESH-INTERVAL;VALUE=DURATION:PT1H
X-Robots-Tag:noindex
X-PUBLISHED-TTL:PT1H
BEGIN:VTIMEZONE
TZID:America/Chicago
BEGIN:DAYLIGHT
TZOFFSETFROM:-0600
TZOFFSETTO:-0500
TZNAME:CDT
DTSTART:20250309T080000
END:DAYLIGHT
BEGIN:STANDARD
TZOFFSETFROM:-0500
TZOFFSETTO:-0600
TZNAME:CST
DTSTART:20251102T070000
END:STANDARD
BEGIN:DAYLIGHT
TZOFFSETFROM:-0600
TZOFFSETTO:-0500
TZNAME:CDT
DTSTART:20260308T080000
END:DAYLIGHT
BEGIN:STANDARD
TZOFFSETFROM:-0500
TZOFFSETTO:-0600
TZNAME:CST
DTSTART:20261101T070000
END:STANDARD
BEGIN:DAYLIGHT
TZOFFSETFROM:-0600
TZOFFSETTO:-0500
TZNAME:CDT
DTSTART:20270314T080000
END:DAYLIGHT
BEGIN:STANDARD
TZOFFSETFROM:-0500
TZOFFSETTO:-0600
TZNAME:CST
DTSTART:20271107T070000
END:STANDARD
END:VTIMEZONE
BEGIN:VEVENT
DTSTART;VALUE=DATE:20260116
DTEND;VALUE=DATE:20260119
DTSTAMP:20260420T053855
CREATED:20260317T145546Z
LAST-MODIFIED:20260317T145546Z
UID:495-1768521600-1768780799@penguin.csmdemo.com
SUMMARY:Disney’s Aladdin Jr.
DESCRIPTION:
URL:https://penguin.csmdemo.com/event/disneys-aladdin-jr/
LOCATION:Peoria Penguin Project\, Peoria\, Illinois\, United States
END:VEVENT
BEGIN:VEVENT
DTSTART;VALUE=DATE:20260116
DTEND;VALUE=DATE:20260119
DTSTAMP:20260420T053855
CREATED:20260317T145546Z
LAST-MODIFIED:20260317T145546Z
UID:496-1768521600-1768780799@penguin.csmdemo.com
SUMMARY:High Tide Cabaret
DESCRIPTION:
URL:https://penguin.csmdemo.com/event/high-tide-cabaret/
LOCATION:Memorial Opera House\, Valparaiso\, Indiana\, United States
END:VEVENT
BEGIN:VEVENT
DTSTART;VALUE=DATE:20260123
DTEND;VALUE=DATE:20260126
DTSTAMP:20260420T053855
CREATED:20260317T145546Z
LAST-MODIFIED:20260317T145546Z
UID:497-1769126400-1769385599@penguin.csmdemo.com
SUMMARY:Disney’s Frozen Jr.
DESCRIPTION:
URL:https://penguin.csmdemo.com/event/disneys-frozen-jr/
LOCATION:Penguin Project of the Quad Cities\, Rock Island\, Illinois\, United States
END:VEVENT
BEGIN:VEVENT
DTSTART;VALUE=DATE:20260124
DTEND;VALUE=DATE:20260127
DTSTAMP:20260420T053855
CREATED:20260317T145546Z
LAST-MODIFIED:20260317T145546Z
UID:498-1769212800-1769471999@penguin.csmdemo.com
SUMMARY:Disney’s Aladdin Jr.
DESCRIPTION:
URL:https://penguin.csmdemo.com/event/disneys-aladdin-jr-2/
LOCATION:FoCAL Center\, Cumming\, Georgia\, United States
END:VEVENT
BEGIN:VEVENT
DTSTART;VALUE=DATE:20260129
DTEND;VALUE=DATE:20260208
DTSTAMP:20260420T053855
CREATED:20260317T145546Z
LAST-MODIFIED:20260317T145546Z
UID:499-1769644800-1770508799@penguin.csmdemo.com
SUMMARY:Oklahoma Youth Edition
DESCRIPTION:
URL:https://penguin.csmdemo.com/event/oklahoma-youth-edition/
LOCATION:Northern Starz\, White Bear Lake\, Minnesota\, United States
END:VEVENT
BEGIN:VEVENT
DTSTART;VALUE=DATE:20260130
DTEND;VALUE=DATE:20260201
DTSTAMP:20260420T053855
CREATED:20260317T145548Z
LAST-MODIFIED:20260317T145548Z
UID:500-1769731200-1769903999@penguin.csmdemo.com
SUMMARY:Dare to Dream Jr.
DESCRIPTION:
URL:https://penguin.csmdemo.com/event/dare-to-dream-jr/
LOCATION:Southwest Independent School District\, San Antonio\, Texas\, United States
END:VEVENT
BEGIN:VEVENT
DTSTART;VALUE=DATE:20260130
DTEND;VALUE=DATE:20260202
DTSTAMP:20260420T053855
CREATED:20260317T145549Z
LAST-MODIFIED:20260317T145549Z
UID:501-1769731200-1769990399@penguin.csmdemo.com
SUMMARY:Disney’s Frozen Jr.
DESCRIPTION:
URL:https://penguin.csmdemo.com/event/disneys-frozen-jr-2/
LOCATION:Penguin Project of the Quad Cities\, Rock Island\, Illinois\, United States
END:VEVENT
END:VCALENDAR