BEGIN:VCALENDAR
VERSION:2.0
PRODID:-//Penguin Project - ECPv6.15.17.1//NONSGML v1.0//EN
CALSCALE:GREGORIAN
METHOD:PUBLISH
X-WR-CALNAME:Penguin Project
X-ORIGINAL-URL:https://penguin.csmdemo.com
X-WR-CALDESC:Events for Penguin Project
REFRESH-INTERVAL;VALUE=DURATION:PT1H
X-Robots-Tag:noindex
X-PUBLISHED-TTL:PT1H
BEGIN:VTIMEZONE
TZID:America/Chicago
BEGIN:DAYLIGHT
TZOFFSETFROM:-0600
TZOFFSETTO:-0500
TZNAME:CDT
DTSTART:20250309T080000
END:DAYLIGHT
BEGIN:STANDARD
TZOFFSETFROM:-0500
TZOFFSETTO:-0600
TZNAME:CST
DTSTART:20251102T070000
END:STANDARD
BEGIN:DAYLIGHT
TZOFFSETFROM:-0600
TZOFFSETTO:-0500
TZNAME:CDT
DTSTART:20260308T080000
END:DAYLIGHT
BEGIN:STANDARD
TZOFFSETFROM:-0500
TZOFFSETTO:-0600
TZNAME:CST
DTSTART:20261101T070000
END:STANDARD
BEGIN:DAYLIGHT
TZOFFSETFROM:-0600
TZOFFSETTO:-0500
TZNAME:CDT
DTSTART:20270314T080000
END:DAYLIGHT
BEGIN:STANDARD
TZOFFSETFROM:-0500
TZOFFSETTO:-0600
TZNAME:CST
DTSTART:20271107T070000
END:STANDARD
END:VTIMEZONE
BEGIN:VEVENT
DTSTART;VALUE=DATE:20260709
DTEND;VALUE=DATE:20260712
DTSTAMP:20260420T205017
CREATED:20260317T152922Z
LAST-MODIFIED:20260317T152922Z
UID:600-1783555200-1783814399@penguin.csmdemo.com
SUMMARY:Alice in Wonderland Jr.
DESCRIPTION:Theatre Lawrence presents Alice in Wonderland Jr.
URL:https://penguin.csmdemo.com/event/alice-in-wonderland-jr/
LOCATION:Theatre Lawrence\, Lawrence\, Kansas\, United States
END:VEVENT
BEGIN:VEVENT
DTSTART;VALUE=DATE:20260710
DTEND;VALUE=DATE:20260712
DTSTAMP:20260420T205017
CREATED:20260317T152925Z
LAST-MODIFIED:20260317T152927Z
UID:602-1783641600-1783814399@penguin.csmdemo.com
SUMMARY:Bye Bye Birdie Youth Edition
DESCRIPTION:Sagebrush Penguin Project presents Bye Bye Birdie Youth Edition.
URL:https://penguin.csmdemo.com/event/bye-bye-birdie-youth-edition/
LOCATION:Sagebrush Penguin Project\, Elk City\, Oklahoma\, United States
END:VEVENT
BEGIN:VEVENT
DTSTART;VALUE=DATE:20260710
DTEND;VALUE=DATE:20260713
DTSTAMP:20260420T205017
CREATED:20260317T152922Z
LAST-MODIFIED:20260317T152922Z
UID:601-1783641600-1783900799@penguin.csmdemo.com
SUMMARY:Finding Nemo Jr.
DESCRIPTION:Memorial Opera House presents Finding Nemo Jr.
URL:https://penguin.csmdemo.com/event/finding-nemo-jr/
LOCATION:Memorial Opera House\, Valparaiso\, Indiana\, United States
END:VEVENT
BEGIN:VEVENT
DTSTART;VALUE=DATE:20260730
DTEND;VALUE=DATE:20260803
DTSTAMP:20260420T205017
CREATED:20260317T152925Z
LAST-MODIFIED:20260317T152928Z
UID:604-1785369600-1785715199@penguin.csmdemo.com
SUMMARY:Willy Wonka Jr.
DESCRIPTION:Northern Starz presents Willy Wonka Jr.
URL:https://penguin.csmdemo.com/event/willy-wonka-jr-2/
LOCATION:Northern Starz\, White Bear Lake\, Minnesota\, United States
END:VEVENT
BEGIN:VEVENT
DTSTART;VALUE=DATE:20260731
DTEND;VALUE=DATE:20260803
DTSTAMP:20260420T205017
CREATED:20260317T152925Z
LAST-MODIFIED:20260317T152927Z
UID:603-1785456000-1785715199@penguin.csmdemo.com
SUMMARY:Seussical Jr.
DESCRIPTION:Rise Up Arts Alliance presents Seussical Jr.
URL:https://penguin.csmdemo.com/event/seussical-jr-2/
LOCATION:Rise Up Arts Alliance\, Lancaster\, Ohio\, United States
END:VEVENT
BEGIN:VEVENT
DTSTART;VALUE=DATE:20260731
DTEND;VALUE=DATE:20260804
DTSTAMP:20260420T205017
CREATED:20260317T152926Z
LAST-MODIFIED:20260317T152928Z
UID:605-1785456000-1785801599@penguin.csmdemo.com
SUMMARY:Aristocats KIDS Jr.
DESCRIPTION:MelloDrama Productions presents Aristocats KIDS Jr.
URL:https://penguin.csmdemo.com/event/aristocats-kids-jr/
LOCATION:MelloDrama Productions\, Dahlonega\, Georgia\, United States
END:VEVENT
END:VCALENDAR