BEGIN:VCALENDAR
VERSION:2.0
PRODID:-//Penguin Project - ECPv6.15.17.1//NONSGML v1.0//EN
CALSCALE:GREGORIAN
METHOD:PUBLISH
X-WR-CALNAME:Penguin Project
X-ORIGINAL-URL:https://penguin.csmdemo.com
X-WR-CALDESC:Events for Penguin Project
REFRESH-INTERVAL;VALUE=DURATION:PT1H
X-Robots-Tag:noindex
X-PUBLISHED-TTL:PT1H
BEGIN:VTIMEZONE
TZID:America/Chicago
BEGIN:DAYLIGHT
TZOFFSETFROM:-0600
TZOFFSETTO:-0500
TZNAME:CDT
DTSTART:20250309T080000
END:DAYLIGHT
BEGIN:STANDARD
TZOFFSETFROM:-0500
TZOFFSETTO:-0600
TZNAME:CST
DTSTART:20251102T070000
END:STANDARD
BEGIN:DAYLIGHT
TZOFFSETFROM:-0600
TZOFFSETTO:-0500
TZNAME:CDT
DTSTART:20260308T080000
END:DAYLIGHT
BEGIN:STANDARD
TZOFFSETFROM:-0500
TZOFFSETTO:-0600
TZNAME:CST
DTSTART:20261101T070000
END:STANDARD
BEGIN:DAYLIGHT
TZOFFSETFROM:-0600
TZOFFSETTO:-0500
TZNAME:CDT
DTSTART:20270314T080000
END:DAYLIGHT
BEGIN:STANDARD
TZOFFSETFROM:-0500
TZOFFSETTO:-0600
TZNAME:CST
DTSTART:20271107T070000
END:STANDARD
END:VTIMEZONE
BEGIN:VEVENT
DTSTART;VALUE=DATE:20260912
DTEND;VALUE=DATE:20260914
DTSTAMP:20260424T122208
CREATED:20260317T154046Z
LAST-MODIFIED:20260317T154047Z
UID:633-1789171200-1789343999@penguin.csmdemo.com
SUMMARY:The Spongebob Musical YE Jr.
DESCRIPTION:Muskegon Civic Theatre presents The Spongebob Musical YE Jr.
URL:https://penguin.csmdemo.com/event/the-spongebob-musical-ye-jr/
LOCATION:Muskegon Civic Theatre\, Muskegon\, Michigan\, United States
END:VEVENT
BEGIN:VEVENT
DTSTART;VALUE=DATE:20260917
DTEND;VALUE=DATE:20260921
DTSTAMP:20260424T122208
CREATED:20260317T154046Z
LAST-MODIFIED:20260317T154047Z
UID:634-1789603200-1789948799@penguin.csmdemo.com
SUMMARY:Disney’s Lion King Jr.
DESCRIPTION:Northern Starz presents Disney’s Lion King Jr.
URL:https://penguin.csmdemo.com/event/disneys-lion-king-jr/
LOCATION:Northern Starz\, White Bear Lake\, Minnesota\, United States
END:VEVENT
END:VCALENDAR